BEGIN:VCALENDAR
VERSION:2.0
PRODID:-//Tukios.com/
BEGIN:VEVENT
UID:24b4b0b7-1c42-4fd5-aaeb-0a8fb022439a@www.plesefuneralservices.com
DTSTAMP:20260424T081340Z
DTSTART:20260430T210000Z
DTEND:20260501T000000Z
SUMMARY:Memorial Gathering
DESCRIPTION:
URL:https://www.plesefuneralservices.com/obituaries/raul-rudy-torres
LOCATION:Blackburn-Giegerich-Sonntag Funeral Home 1500 Black Rd  Joliet 
	IL 60435
GEO:41.5368722;-88.1179061
END:VEVENT
END:VCALENDAR