BEGIN:VCALENDAR
VERSION:2.0
PRODID:-//Tukios.com/
BEGIN:VEVENT
UID:ae2ea4cf-d29c-4b58-862b-ffe0d8aaccae@www.plesefuneralservices.com
DTSTAMP:20260424T081859Z
DTSTART:20260501T000000Z
DTEND:20260501T010000Z
SUMMARY:Celebration of Life
DESCRIPTION:
URL:https://www.plesefuneralservices.com/obituaries/raul-rudy-torres
LOCATION: 1500 Black Road  Joliet IL 60435
GEO:41.5368722;-88.1179061
END:VEVENT
END:VCALENDAR